BEGIN:VCALENDAR
VERSION:2.0
PRODID:-//Valmieras Kultūras centrs - ECPv6.15.12.2//NONSGML v1.0//EN
CALSCALE:GREGORIAN
METHOD:PUBLISH
X-ORIGINAL-URL:https://vkc.lv
X-WR-CALDESC:Events for Valmieras Kultūras centrs
REFRESH-INTERVAL;VALUE=DURATION:PT1H
X-Robots-Tag:noindex
X-PUBLISHED-TTL:PT1H
BEGIN:VTIMEZONE
TZID:Europe/Helsinki
BEGIN:DAYLIGHT
TZOFFSETFROM:+0200
TZOFFSETTO:+0300
TZNAME:EEST
DTSTART:20250330T010000
END:DAYLIGHT
BEGIN:STANDARD
TZOFFSETFROM:+0300
TZOFFSETTO:+0200
TZNAME:EET
DTSTART:20251026T010000
END:STANDARD
BEGIN:DAYLIGHT
TZOFFSETFROM:+0200
TZOFFSETTO:+0300
TZNAME:EEST
DTSTART:20260329T010000
END:DAYLIGHT
BEGIN:STANDARD
TZOFFSETFROM:+0300
TZOFFSETTO:+0200
TZNAME:EET
DTSTART:20261025T010000
END:STANDARD
BEGIN:DAYLIGHT
TZOFFSETFROM:+0200
TZOFFSETTO:+0300
TZNAME:EEST
DTSTART:20270328T010000
END:DAYLIGHT
BEGIN:STANDARD
TZOFFSETFROM:+0300
TZOFFSETTO:+0200
TZNAME:EET
DTSTART:20271031T010000
END:STANDARD
END:VTIMEZONE
BEGIN:VEVENT
DTSTART;TZID=Europe/Helsinki:20260412T110000
DTEND;TZID=Europe/Helsinki:20260412T130000
DTSTAMP:20260423T181106
CREATED:20260328T065419Z
LAST-MODIFIED:20260328T065419Z
UID:30598-1775991600-1775998800@vkc.lv
SUMMARY:Valmieras novada koru skate Valmieras 5. vidusskolā
DESCRIPTION:12. aprīlī plkst. 11.00  Valmieras novada koru skate Valmieras 5. vidusskolā \nIeeja bez maksas
URL:https://vkc.lv/notikums/valmieras-novada-koru-skate-valmieras-5-vidusskola/
LOCATION:Valmieras 5. vidusskola
ATTACH;FMTTYPE=image/png:https://vkc.lv/wp-content/uploads/2026/03/Valmiera_events-1.png
END:VEVENT
END:VCALENDAR