BEGIN:VCALENDAR
VERSION:2.0
PRODID:-//Valmieras Kultūras centrs - ECPv6.15.12.2//NONSGML v1.0//EN
CALSCALE:GREGORIAN
METHOD:PUBLISH
X-ORIGINAL-URL:https://vkc.lv
X-WR-CALDESC:Events for Valmieras Kultūras centrs
REFRESH-INTERVAL;VALUE=DURATION:PT1H
X-Robots-Tag:noindex
X-PUBLISHED-TTL:PT1H
BEGIN:VTIMEZONE
TZID:Europe/Helsinki
BEGIN:DAYLIGHT
TZOFFSETFROM:+0200
TZOFFSETTO:+0300
TZNAME:EEST
DTSTART:20240331T010000
END:DAYLIGHT
BEGIN:STANDARD
TZOFFSETFROM:+0300
TZOFFSETTO:+0200
TZNAME:EET
DTSTART:20241027T010000
END:STANDARD
BEGIN:DAYLIGHT
TZOFFSETFROM:+0200
TZOFFSETTO:+0300
TZNAME:EEST
DTSTART:20250330T010000
END:DAYLIGHT
BEGIN:STANDARD
TZOFFSETFROM:+0300
TZOFFSETTO:+0200
TZNAME:EET
DTSTART:20251026T010000
END:STANDARD
BEGIN:DAYLIGHT
TZOFFSETFROM:+0200
TZOFFSETTO:+0300
TZNAME:EEST
DTSTART:20260329T010000
END:DAYLIGHT
BEGIN:STANDARD
TZOFFSETFROM:+0300
TZOFFSETTO:+0200
TZNAME:EET
DTSTART:20261025T010000
END:STANDARD
END:VTIMEZONE
BEGIN:VEVENT
DTSTART;TZID=Europe/Helsinki:20251213T100000
DTEND;TZID=Europe/Helsinki:20251213T140000
DTSTAMP:20260424T055700
CREATED:20251201T202725Z
LAST-MODIFIED:20251201T202725Z
UID:30218-1765620000-1765634400@vkc.lv
SUMMARY:Ziemas tirdziņš
DESCRIPTION:13. decembrī Valmierā\, laukumā pie Valmieras Kultūras centra\, no plkst. 10.00 līdz plkst. 14.00 norisināsies Ziemas tirdziņš.\nTirgotāji – amatnieki un mājražotāji – parūpēsies\, lai ikvienam tirdziņa apmeklētājam būtu iespēja iegādāties gardumus savam svētku galdam un jaukas dāvanas gan lieliem\, gan maziem.
URL:https://vkc.lv/notikums/ziemas-tirdzins-2/
LOCATION:Laukums pie Valmieras Kultūras centra\, Rīgas iela 10\, Valmiera\, Latvija
ATTACH;FMTTYPE=image/jpeg:https://vkc.lv/wp-content/uploads/2025/12/408815188_374614235073430_5940642029427085331_n-1-2.jpg
END:VEVENT
BEGIN:VEVENT
DTSTART;TZID=Europe/Helsinki:20251213T100000
DTEND;TZID=Europe/Helsinki:20251213T140000
DTSTAMP:20260424T055700
CREATED:20251201T203041Z
LAST-MODIFIED:20251201T203041Z
UID:30221-1765620000-1765634400@vkc.lv
SUMMARY:Valmieras Dizaina un mākslas vidusskolas audzēkņu darbu  tirdziņš “MARKA”
DESCRIPTION:Tuvojoties Ziemassvētkiem\, notiks ikgadējais tradicionālais Valmieras Dizaina un mākslas vidusskolas audzēkņu darbu  tirdziņš “MARKA”\, kur audzēkņi un Skolēnu mācību uzņēmumu ietvaros\, izgatavojuši unikālus produktus: T-krekli un bikses ar autentisku dizaina apgleznojumu\, dažāda veida auduma somas\, Ziemassvētku kartiņas\,  rotaslietas un tamborēti dzīvnieciņi u.c.\, kas noderēs pašiem vai būs kā sirsnīga dāvana citiem.  \nLīdzās būs arī Valmieras Dizaina un mākslas vidusskolas pedagogu un profesionālās ievirzes (Mākslas skolas) audzēkņu darbi.   \nEsiet laipni aicināti 13.12.2025. plkst. 10.00 – 14.00 Valmieras Kultūras centrā!
URL:https://vkc.lv/notikums/valmieras-dizaina-un-makslas-vidusskolas-audzeknu-darbu-tirdzins-marka/
LOCATION:Valmieras Kultūras centrs\, Rīgas iela 10\, Valmiera\, Latvija
ATTACH;FMTTYPE=image/jpeg:https://vkc.lv/wp-content/uploads/2025/12/586877130_1506930124770902_8223032116028750567_n.jpg
END:VEVENT
BEGIN:VEVENT
DTSTART;TZID=Europe/Helsinki:20251213T180000
DTEND;TZID=Europe/Helsinki:20251213T200000
DTSTAMP:20260424T055700
CREATED:20250915T184041Z
LAST-MODIFIED:20251018T173802Z
UID:29892-1765648800-1765656000@vkc.lv
SUMMARY:Priecīgākie Ziemassvētki ar grupu "Baritoni"
DESCRIPTION:Piedzīvo Priecīgākos Ziemassvētkus kopā ar grupu BARITONI! \nJūs sagaida gan pašu radītas Ziemassvētku dziesmas no Baritonu jaunā albuma\, gan skaistas un atpazīstamas ziemas melodijas\, kurām viņi piešķīruši savu īpašo daudzbalsīgo skanējumu. \nPar skanīgām balsīm un gaišu atmosfēru rūpēsies Mārtiņš Strods (+ akustiskā ģitāra)\, Artūrs Puncuļs (+ kahons)\, Ingars Puncuļs\, Normunds Litovnieks un pie taustiņiem – maestro Džuliāns. \nTas ir koncerts\, kuru apmeklēt kopā ar ģimeni\, draugiem vai kolēģiem\, baudot svētkus siltā noskaņā – gluži kā mājās ar tuvajiem – tie ir PRIECĪGĀKIE ZIEMASSVĒTKI!
URL:https://vkc.lv/notikums/priecigakie-ziemassvetki-ar-grupu-baritoni/
LOCATION:Valmieras Kultūras centra lielā zāle\, Rīgas iela 10\, Valmiera\, Latvija
ATTACH;FMTTYPE=image/png:https://vkc.lv/wp-content/uploads/2025/10/VALMIERA-facebook-1.png
END:VEVENT
BEGIN:VEVENT
DTSTART;TZID=Europe/Helsinki:20251214T110000
DTEND;TZID=Europe/Helsinki:20251214T140000
DTSTAMP:20260424T055700
CREATED:20251201T201948Z
LAST-MODIFIED:20251201T201948Z
UID:30215-1765710000-1765720800@vkc.lv
SUMMARY:Bērnu rīts “Dari tā\, dari šitā!”
DESCRIPTION:14. decembrī plkst. 11.00-14.00 Kocēnu Kultūras nama kamīnzālē norisināsies Bērnu rīts “Dari tā\, dari šitā!”. \n*  “DAri un RAdi” radošās darbnīcas \n*  svētku dekoru izgatavošana \n*  piparkūku dekorēšana un citas aktivitātes \n  \nGaidīsim Ziemassvētkus kopā! \nIeeja bez maksas.
URL:https://vkc.lv/notikums/bernu-rits-dari-ta-dari-sita-3/
LOCATION:Kocēnu kultūras nams\, Alejas iela 3\, Kocēni
ATTACH;FMTTYPE=image/jpeg:https://vkc.lv/wp-content/uploads/2025/12/495011024_711636198037897_2898618997770509980_n.jpg
END:VEVENT
END:VCALENDAR