BEGIN:VCALENDAR
VERSION:2.0
PRODID:-//Valmieras Kultūras centrs - ECPv6.15.12.2//NONSGML v1.0//EN
CALSCALE:GREGORIAN
METHOD:PUBLISH
X-ORIGINAL-URL:https://vkc.lv
X-WR-CALDESC:Events for Valmieras Kultūras centrs
REFRESH-INTERVAL;VALUE=DURATION:PT1H
X-Robots-Tag:noindex
X-PUBLISHED-TTL:PT1H
BEGIN:VTIMEZONE
TZID:Europe/Helsinki
BEGIN:DAYLIGHT
TZOFFSETFROM:+0200
TZOFFSETTO:+0300
TZNAME:EEST
DTSTART:20240331T010000
END:DAYLIGHT
BEGIN:STANDARD
TZOFFSETFROM:+0300
TZOFFSETTO:+0200
TZNAME:EET
DTSTART:20241027T010000
END:STANDARD
BEGIN:DAYLIGHT
TZOFFSETFROM:+0200
TZOFFSETTO:+0300
TZNAME:EEST
DTSTART:20250330T010000
END:DAYLIGHT
BEGIN:STANDARD
TZOFFSETFROM:+0300
TZOFFSETTO:+0200
TZNAME:EET
DTSTART:20251026T010000
END:STANDARD
BEGIN:DAYLIGHT
TZOFFSETFROM:+0200
TZOFFSETTO:+0300
TZNAME:EEST
DTSTART:20260329T010000
END:DAYLIGHT
BEGIN:STANDARD
TZOFFSETFROM:+0300
TZOFFSETTO:+0200
TZNAME:EET
DTSTART:20261025T010000
END:STANDARD
END:VTIMEZONE
BEGIN:VEVENT
DTSTART;TZID=Europe/Helsinki:20251009T183000
DTEND;TZID=Europe/Helsinki:20251009T200000
DTSTAMP:20260424T055701
CREATED:20250708T162528Z
LAST-MODIFIED:20250708T162528Z
UID:29328-1760034600-1760040000@vkc.lv
SUMMARY:Improvizācijas teātris “DIVAS” dodas uz Valmieru
DESCRIPTION:Improvizatores Anete Bendika un Elīna Geida jau vairākus gadus uzstājas uz dažādām skatuvēm Rīgā un Latvijā\, kur priecē skatītājus ar savu unikālo spēju radīt izrādes bez iepriekš sagatavota scenārija\, balstoties uz skatītāju ieteikumiem un aktuālām tēmām. Ir laiks atgriezties Valmierā\, lai kopā ar jūsu idejām un ierosinājumiem radītu jaunus un aizraujošus stāstus par to\, kas aktuāls Valmierā un mūsu ikdienas dzīvē. \nKā ierasts – izrāde divās daļās ar starpbrīdi vidū\, kura laikā pie dzēriena glāzes apspriest\, ka Valmiera ir vienīgā vieta\, kur tevi var uzaicināt “uz Gauju”\, un tu pat nezini – peldēties vai dejot… \nIeeja: 15-20 EUR. Ar Valmieras kultūras karti 1 EUR atlaide.
URL:https://vkc.lv/notikums/improvizacijas-teatris-divas-dodas-uz-valmieru/
LOCATION:Valmieras Kultūras centra lielā zāle\, Rīgas iela 10\, Valmiera\, Latvija
ATTACH;FMTTYPE=image/jpeg:https://vkc.lv/wp-content/uploads/2025/07/DIVAS_CEĻO_2023-25-1.jpg
END:VEVENT
BEGIN:VEVENT
DTSTART;TZID=Europe/Helsinki:20251011T190000
DTEND;TZID=Europe/Helsinki:20251011T203000
DTSTAMP:20260424T055701
CREATED:20250328T200316Z
LAST-MODIFIED:20250328T200316Z
UID:28554-1760209200-1760214600@vkc.lv
SUMMARY:Koncerts “Nāk rudens apgleznot Latviju”
DESCRIPTION:Šoruden – Rīgā\, Valmierā un Liepājā uz skaistāko dziesmu koncertu «Nāk rudens apgleznot Latviju» aicina populārie dziedātāji Ineta Rudzīte\, Uģis Roze\, Žoržs Siksna\, Igo\, Andris Daņiļenko un Viktors Lapčenoks\, kā arī romantiskais saksofonists Raivo Stašans. Par muzikālo pavadījumu koncertā rūpēsies mūziķu grupa «AR Maestro» Anatolija Livčas vadībā: Artūrs Kutepovs (ģitāra)\, Pēteris Liepiņš (basģitāra)\, Mareks Logins (sitaminstrumenti) un Anatolijs Livča (taustiņinstrumenti)\, kā arī vokālistes Laima Miltiņa-Rode un Elīna Čampere. \n«Koncerta moto izvēlējāmies no Māras Zālītes un Ulda Stabulnieka leģendārās dziesmas «Tik un tā»\, un patiesībā – padomājiet paši\, cik mums\, latviešiem\, ir daudz skaistu dziesmu par rudeni! Daļu no tām arī izdziedāsim šajā koncertā\, savukārt klausītājus aicinām atkārtot dziesmu vārdus\, lai ikviens varētu izdziedāties pēc sirds patikas!» aicina koncerta organizatori. \nKoncertā Andra Daņiļenko un saksofonista Raivo Stašana interpretācijā skanēs Raimonda Paula dziesma «Rudens ogle». Leģendārais dziedātājs Igo koncertam izvēlējies dziesmas «Kā senā dziesmā» un «Rudens vēju muzikants»\, bet Raivo Stašana sniegumā skanēs Raimonda Paula brīnišķīgā melodija no kinofilmas «Ilgais ceļš kāpās». Dziedātājs Žoržs Siksna no sava repertuāra piedāvās dziesmas «Ap Jāņiem Mārtiņos»\, «Mīlas rudens» un «Viss\, kas bijis septembrī»; Uģa Rozes dziedājumā skanēs Imanta Kalniņa dziesma «Trubadūrs»\, Viktora Lapčenoka interpretācijā skanēs Raimonda Paula dziesmu «Par pēdējo lapu»\, bet Ineta Rudzīte koncertam izvēlējusies Raimonda Paula dziesmu «Nenāciet klāt man rudenī». Savukārt visi koncerta dalībnieki vienosies Ulda Stabulnieka dziesmā «Tik un tā»\, Zigmara Liepiņa dziesmā «Vēl ir laiks» un Raimonda Paula dziesmā «Rudenī vēlu\, vēlu». \nBiļetes – “Biļešu Paradīzē”.
URL:https://vkc.lv/notikums/koncerts-nak-rudens-apgleznot-latviju/
LOCATION:Valmieras Kultūras centra lielā zāle\, Rīgas iela 10\, Valmiera\, Latvija
ATTACH;FMTTYPE=image/jpeg:https://vkc.lv/wp-content/uploads/2025/03/Nak_Rudens_11102025_Valmiera_WEB_Fb_1920x1005-Event-2.jpg
END:VEVENT
END:VCALENDAR