BEGIN:VCALENDAR
VERSION:2.0
PRODID:-//Valmieras Kultūras centrs - ECPv6.15.12.2//NONSGML v1.0//EN
CALSCALE:GREGORIAN
METHOD:PUBLISH
X-WR-CALNAME:Valmieras Kultūras centrs
X-ORIGINAL-URL:https://vkc.lv
X-WR-CALDESC:Events for Valmieras Kultūras centrs
REFRESH-INTERVAL;VALUE=DURATION:PT1H
X-Robots-Tag:noindex
X-PUBLISHED-TTL:PT1H
BEGIN:VTIMEZONE
TZID:Europe/Helsinki
BEGIN:DAYLIGHT
TZOFFSETFROM:+0200
TZOFFSETTO:+0300
TZNAME:EEST
DTSTART:20240331T010000
END:DAYLIGHT
BEGIN:STANDARD
TZOFFSETFROM:+0300
TZOFFSETTO:+0200
TZNAME:EET
DTSTART:20241027T010000
END:STANDARD
BEGIN:DAYLIGHT
TZOFFSETFROM:+0200
TZOFFSETTO:+0300
TZNAME:EEST
DTSTART:20250330T010000
END:DAYLIGHT
BEGIN:STANDARD
TZOFFSETFROM:+0300
TZOFFSETTO:+0200
TZNAME:EET
DTSTART:20251026T010000
END:STANDARD
BEGIN:DAYLIGHT
TZOFFSETFROM:+0200
TZOFFSETTO:+0300
TZNAME:EEST
DTSTART:20260329T010000
END:DAYLIGHT
BEGIN:STANDARD
TZOFFSETFROM:+0300
TZOFFSETTO:+0200
TZNAME:EET
DTSTART:20261025T010000
END:STANDARD
BEGIN:DAYLIGHT
TZOFFSETFROM:+0200
TZOFFSETTO:+0300
TZNAME:EEST
DTSTART:20270328T010000
END:DAYLIGHT
BEGIN:STANDARD
TZOFFSETFROM:+0300
TZOFFSETTO:+0200
TZNAME:EET
DTSTART:20271031T010000
END:STANDARD
END:VTIMEZONE
BEGIN:VEVENT
DTSTART;TZID=Europe/Helsinki:20251231T230000
DTEND;TZID=Europe/Helsinki:20260101T003000
DTSTAMP:20260423T193735
CREATED:20251221T165518Z
LAST-MODIFIED:20251221T165518Z
UID:30321-1767222000-1767227400@vkc.lv
SUMMARY:Jaunā gada sagaidīšana un svētku uguņošana
DESCRIPTION:31.decembrī no plkst. 23.00 Valmieras centrā norisināsies Jaungada sagaidīšana. Pusnaktī – svētku uguņošana.
URL:https://vkc.lv/notikums/jauna-gada-sagaidisana-un-svetku-ugunosana/
LOCATION:Valmieras centrā
ATTACH;FMTTYPE=image/jpeg:https://vkc.lv/wp-content/uploads/2025/12/FB_Jaungada-balle-7.jpg
END:VEVENT
BEGIN:VEVENT
DTSTART;TZID=Europe/Helsinki:20260101T003000
DTEND;TZID=Europe/Helsinki:20260101T040000
DTSTAMP:20260423T193735
CREATED:20251203T134429Z
LAST-MODIFIED:20251229T182709Z
UID:30230-1767227400-1767240000@vkc.lv
SUMMARY:Jaungada balle ar grupu "Džentlmeņu špagats"
DESCRIPTION:1. janvārī plkst. 00.30 Valmieras Kultūras centrā būs lustīga Jaungada balle ar grupu “Džentlmeņu špagats”.\nBalles laikā par gardām uzkodām un dzērieniem rūpēsies “Zaļais Zars” – varēs iegādāties uzkodu plates\, salātus\, desertu\, kūku un bezalkoholiskus dzērienus. “Zaļais Zars” piedāvā arī iespēju iepriekš pieteikt pasūtījumu pa tālruni 26607724.\nIeeja: 12 EUR\, norises dienā – 15 EUR. Bērniem līdz 6 gadu vecumam (ieskaitot) ieeja bez maksas.
URL:https://vkc.lv/notikums/jaungada-balle-ar-grupu-dzentlmenu-spagats-2/
LOCATION:Valmieras Kultūras centra lielā zāle\, Rīgas iela 10\, Valmiera\, Latvija
ATTACH;FMTTYPE=image/jpeg:https://vkc.lv/wp-content/uploads/2025/12/Gentelmenu-spagats-27_06_2020_153-3.jpg
END:VEVENT
BEGIN:VEVENT
DTSTART;TZID=Europe/Helsinki:20260104T150000
DTEND;TZID=Europe/Helsinki:20260104T170000
DTSTAMP:20260423T193735
CREATED:20251203T185427Z
LAST-MODIFIED:20251203T185427Z
UID:30233-1767538800-1767546000@vkc.lv
SUMMARY:SAPNIS VECGADA NAKTĪ / muzikāli izklaidējošs gadumijas šovs
DESCRIPTION:Jautrība\, smiekli un aizkustinājuma asaras\, ugunīgas dejas\, krāšņi tērpi un izcila mūzika – viss vienuviet brīnumainā gadumijas šovā SAPNIS VECGADA NAKTĪ. \nIr pienākusi nakts\, kad visas mūsu vēlēšanās un sapņi piepildās. Kā pasakā par zelta zivtiņu. Tikai…ne velti ir teiciens – uzmanies\, ko vēlies\, jo arī sapņu pārdevējam\, mūsu vēlmes piepildot\, var gadīties dažādas kļūmes\, pārpratumi un negaidīti pavērsieni… \nHumorpilni notikumi\, iemīļotas latviešu dziesmas un populāri pasaules hiti (no Robbie Williams un Cher līdz ABBA\, Britney Spears\, Enrique Iglesias\, pat Måneskin u.c.) \nPrieks un dzirkstošs garastāvoklis divu stundu garumā – garantēts! Viss\, ko šovā piedzīvosiet\, ir sapņaina patiesība vai patiess sapnis\, un\, iespējams\, arī kāds no jūsu sapņiem tiks piepildīts… \nMuzikāli izklaidējošā gadumijas šovā SAPNIS VECGADA NAKTĪ jūs priecēs lieliska aktieru un dziedātaju komanda – Maksims Busels\, Anmary\, Atis Zviedris\, Dainis Skutelis\, Sanita Roze\, Artūrs Biķernieks\, Edvards Grieze\, Toms Kalderauskis\, Emīls Gilučs-Lācis\, Austra Elza Kozuliņa\, Zane Helēna Lazdiņa\, Sarma Liede\, Karīna Biķerniece. Šovu bagātinās arī dejotāji Rolands Šteinbergs\, Zane Stūre\, Kārlis Kemlers\, Asnate Rikse\, bet par muzikālo pavadījumu rūpēsies instrumentālā grupa Matīsa Žilinska vadībā. \nRežisors Mārtiņš Kagainis\, muzikālais vadītājs Matīss Žilinskis\, horeogrāfe Ieva Kemlere\, kostīmu māksliniece Hanna Elerta\, scenogrāfs un gaismu mākslinieks Egils Kupčs\, producents Aigars Dinsbergs. \nAr šo vecgada šovu Producentu grupa 7 krāšņi noslēdz savu 20.jubilejas gadu un iezīmē jaunu gada nogales tradīciju.
URL:https://vkc.lv/notikums/sapnis-vecgada-nakti-muzikali-izklaidejoss-gadumijas-sovs/
LOCATION:Valmieras Kultūras centra lielā zāle\, Rīgas iela 10\, Valmiera\, Latvija
ATTACH;FMTTYPE=image/jpeg:https://vkc.lv/wp-content/uploads/2025/12/SVN-16.jpg
END:VEVENT
BEGIN:VEVENT
DTSTART;TZID=Europe/Helsinki:20260114T183000
DTEND;TZID=Europe/Helsinki:20260114T210000
DTSTAMP:20260423T193735
CREATED:20251211T195331Z
LAST-MODIFIED:20251221T171439Z
UID:30256-1768415400-1768424400@vkc.lv
SUMMARY:"ZiMinU viktorīna"
DESCRIPTION:14. janvārī plkst. 18.30 Valmieras Kultūras centrā notiks “ZiMinU viktorīna”. Ieeja: 30 EUR (komandai)\, biļetes www.ziminu.lv.
URL:https://vkc.lv/notikums/ziminu-viktorina-2/
LOCATION:Valmieras Kultūras centra lielā zāle\, Rīgas iela 10\, Valmiera\, Latvija
ATTACH;FMTTYPE=image/png:https://vkc.lv/wp-content/uploads/2025/12/IMG_1980.png
END:VEVENT
BEGIN:VEVENT
DTSTART;TZID=Europe/Helsinki:20260120T170000
DTEND;TZID=Europe/Helsinki:20260120T190000
DTSTAMP:20260423T193735
CREATED:20260106T140743Z
LAST-MODIFIED:20260106T140743Z
UID:30353-1768928400-1768935600@vkc.lv
SUMMARY:Barikāžu 35. gadadienai veltīti atceres pasākumi
DESCRIPTION:20. janvārī plkst. 17.00 norisināsies Barikāžu 35. gadadienai veltīts atceres brīdis pie Barikāžu piemiņas akmens (Rīgas iela 50). \nNo plkst. 17.00 līdz plkst. 21.00 Mihaila Ignata fotofiksācijas “Atceroties 1991. gada barikādes” uz Valmieras Kultūras centra ēkas fasādes.
URL:https://vkc.lv/notikums/barikazu-35-gadadienai-veltiti-atceres-pasakumi/
ATTACH;FMTTYPE=image/png:https://vkc.lv/wp-content/uploads/2026/01/20_01_AtceresBridis.png
END:VEVENT
BEGIN:VEVENT
DTSTART;TZID=Europe/Helsinki:20260124T120000
DTEND;TZID=Europe/Helsinki:20260124T140000
DTSTAMP:20260423T193735
CREATED:20260106T140316Z
LAST-MODIFIED:20260106T140316Z
UID:30348-1769256000-1769263200@vkc.lv
SUMMARY:XXV Jaunrades deju konkurss (D\, E\, F grupas kolektīvi)
DESCRIPTION:Sestdien\, 2026. gada 24. janvārī\, Valmieras Kultūras centrā notiks XXV Jaunrades deju konkurss\, kura norisi divos koncertos plkst. 12.00 un plkst. 18.00 aicināti vērot arī skatītāji. Žūrijas vērtējumam konkursā tiks nodotas 60 latviešu skatuviskās dejas. \nXXV Jaunrades deju konkursam kopumā tika pieteikta 81 latviešu skatuviskā deja. Žūrijas komisija izvērtēja iesniegtos deju pieteikumus un lēma konkursam Valmierā virzīt 60 dejas\, kuru autori ir horeogrāfi: Dace Adviljone\, Skaidrīte Andževa\, Elvis Ansabergs\, Aigars Bajārs\, Jana Baranovska\, Dagmāra Bārbale\, Krišjānis Bite\, Kaspars Brauns\, Rūdolfs Cīrulis\, Rūta Cīrule\, Uva Eglīte\, Ādams Kristaps Eisaks\, Diāna Gavare\, Juris Gogulis\, Līga Indriksone\, Baiba Ķestere\, Lilija Lipora\, Taiga Ludborža\, Zane Muzikante\, Laura Pavilone\, Mārtiņš Pēdājs\, Jānis Purviņš\, Gunta Skuja\, Guna Trukšāne\, Kristaps Vigulis\, Karlīna Visocka un Patrīcija Zemniece. \nKonkursā tiks izdejotas latviešu tautas deju\, rotaļdeju apdares un latviešu skatuviskās dejas\, kas parāda Latvijas vēsturisko zemju horeogrāfisko savdabību un balstās folkloras avotos un tautas tradīciju aprakstos\, kā arī latviešu skatuviskās dejas\, kas veidotas\, izmantojot folkloras horeogrāfisko un muzikālo materiālu vai tā elementus. \nKonkursā piedalīsies deju kolektīvi un ansambļi: “Ačkups”\, “Austris”\, “Bramaņi”\, “Cielaviņa”\, “Čiekurs”\, “Dancis”\, “Dārdari”\, “Dzīpari”\, “Dzīpars”\, “Gatve”\, “Kalve”\, “Klasesbiedri”\, “Kniediņš”\, “Laipa”\, “Laismeņa”\, “Lielupe”\, “Līgo”\, “Līgo Absolventi”\, “Mana Rotaļa”\, “Mārupieši”\, “Mēmelīte”\, “Mūsu Lielupe”\, “Ogre”\, “Ogrēnietis”\, “Pastalnieki”\, “Pērle”\, “Puzurs”\, “Rotaļa”\, “Rotaļa XO”\, “Rūta”\, “Skabardzēni”\, “Spriganis”\, “Sudraba stīgas”\, “Suncele”\, “Ūsiņš”\, “Varakļāni”\, “Vektors”\, “Vēja zirdziņš” un “Zalktis”. \nPlkst.12.00 konkursa I daļā piedalīsies vidējās paaudzes D un E grupu un senioru F grupas deju kolektīvi. \nPlkst.18.00 konkursa II daļā uzstāsies jauniešu A\, B un C grupu deju kolektīvi. \nUz katru konkursa daļu biļetes jāiegādājas atsevišķi. Biļetes skatītājiem pieejamas “Biļešu paradīzes” tirdzniecības tīklā. \nXXV Jaunrades deju konkursa žūrijas komisija: Ilze Mažāne\, horeogrāfe\, Vispārējo latviešu dziesmu un deju svētku virsvadītāja\, Latvijas Skolu jaunatnes dziesmu un deju svētku Goda virsvadītāja; Ilmārs Dreļs\, horeogrāfs\, Vispārējo latviešu dziesmu un deju svētku virsvadītājs; Agris Daņiļevičs\, horeogrāfs\, Vispārējo latviešu dziesmu un deju svētku virsvadītājs\, deju skolas “Dzirnas” vadītājs; Dace Smirnova\, horeogrāfe\, horeogrāfiskās folkloras speciāliste\, etno kompānijas “Zeidi” vadītāja; Antons Freimans\, horeogrāfs\, Latvijas Nacionālās operas un baleta solists. \nPar Jaunrades deju konkursu \nLatvijas Nacionālā kultūras centra rīkotais (LNKC) Jaunrades deju konkurss ir vienīgais notikums latviešu skatuviskās dejas nozarē\, kura mērķis ir veicināt horeogrāfu jaunrades darbu un mākslinieciski augstvērtīgu deju radīšanu\, papildinot deju kolektīvu repertuāru\, kā arī valsts un reģionālās nozīmes pasākumu deju kolektīvu koprepertuāru. Konkurss rosina horeogrāfus pievērsties horeogrāfiskā mantojuma izpētei un sekmē zināšanās balstītu latviešu skatuviskās dejas jaunradi. \nKonkurss tiek rīkots sadarbībā ar Valmieras novada pašvaldību.
URL:https://vkc.lv/notikums/xxv-jaunrades-deju-konkurss-d-e-f-grupas-kolektivi/
LOCATION:Valmieras Kultūras centra lielā zāle\, Rīgas iela 10\, Valmiera\, Latvija
ATTACH;FMTTYPE=image/png:https://vkc.lv/wp-content/uploads/2026/01/Facbook-event-cover-9.png
END:VEVENT
BEGIN:VEVENT
DTSTART;TZID=Europe/Helsinki:20260124T180000
DTEND;TZID=Europe/Helsinki:20260124T200000
DTSTAMP:20260423T193735
CREATED:20260106T140431Z
LAST-MODIFIED:20260106T140431Z
UID:30351-1769277600-1769284800@vkc.lv
SUMMARY:XXV Jaunrades deju konkurss (A\, B\, C grupu kolektīvi)
DESCRIPTION:Sestdien\, 2026. gada 24. janvārī\, Valmieras Kultūras centrā notiks XXV Jaunrades deju konkurss\, kura norisi divos koncertos plkst. 12.00 un plkst. 18.00 aicināti vērot arī skatītāji. Žūrijas vērtējumam konkursā tiks nodotas 60 latviešu skatuviskās dejas. \nXXV Jaunrades deju konkursam kopumā tika pieteikta 81 latviešu skatuviskā deja. Žūrijas komisija izvērtēja iesniegtos deju pieteikumus un lēma konkursam Valmierā virzīt 60 dejas\, kuru autori ir horeogrāfi: Dace Adviljone\, Skaidrīte Andževa\, Elvis Ansabergs\, Aigars Bajārs\, Jana Baranovska\, Dagmāra Bārbale\, Krišjānis Bite\, Kaspars Brauns\, Rūdolfs Cīrulis\, Rūta Cīrule\, Uva Eglīte\, Ādams Kristaps Eisaks\, Diāna Gavare\, Juris Gogulis\, Līga Indriksone\, Baiba Ķestere\, Lilija Lipora\, Taiga Ludborža\, Zane Muzikante\, Laura Pavilone\, Mārtiņš Pēdājs\, Jānis Purviņš\, Gunta Skuja\, Guna Trukšāne\, Kristaps Vigulis\, Karlīna Visocka un Patrīcija Zemniece. \nKonkursā tiks izdejotas latviešu tautas deju\, rotaļdeju apdares un latviešu skatuviskās dejas\, kas parāda Latvijas vēsturisko zemju horeogrāfisko savdabību un balstās folkloras avotos un tautas tradīciju aprakstos\, kā arī latviešu skatuviskās dejas\, kas veidotas\, izmantojot folkloras horeogrāfisko un muzikālo materiālu vai tā elementus. \nKonkursā piedalīsies deju kolektīvi un ansambļi: “Ačkups”\, “Austris”\, “Bramaņi”\, “Cielaviņa”\, “Čiekurs”\, “Dancis”\, “Dārdari”\, “Dzīpari”\, “Dzīpars”\, “Gatve”\, “Kalve”\, “Klasesbiedri”\, “Kniediņš”\, “Laipa”\, “Laismeņa”\, “Lielupe”\, “Līgo”\, “Līgo Absolventi”\, “Mana Rotaļa”\, “Mārupieši”\, “Mēmelīte”\, “Mūsu Lielupe”\, “Ogre”\, “Ogrēnietis”\, “Pastalnieki”\, “Pērle”\, “Puzurs”\, “Rotaļa”\, “Rotaļa XO”\, “Rūta”\, “Skabardzēni”\, “Spriganis”\, “Sudraba stīgas”\, “Suncele”\, “Ūsiņš”\, “Varakļāni”\, “Vektors”\, “Vēja zirdziņš” un “Zalktis”. \nPlkst.12.00 konkursa I daļā piedalīsies vidējās paaudzes D un E grupu un senioru F grupas deju kolektīvi. \nPlkst.18.00 konkursa II daļā uzstāsies jauniešu A\, B un C grupu deju kolektīvi. \nUz katru konkursa daļu biļetes jāiegādājas atsevišķi. Biļetes skatītājiem pieejamas “Biļešu paradīzes” tirdzniecības tīklā. \nXXV Jaunrades deju konkursa žūrijas komisija: Ilze Mažāne\, horeogrāfe\, Vispārējo latviešu dziesmu un deju svētku virsvadītāja\, Latvijas Skolu jaunatnes dziesmu un deju svētku Goda virsvadītāja; Ilmārs Dreļs\, horeogrāfs\, Vispārējo latviešu dziesmu un deju svētku virsvadītājs; Agris Daņiļevičs\, horeogrāfs\, Vispārējo latviešu dziesmu un deju svētku virsvadītājs\, deju skolas “Dzirnas” vadītājs; Dace Smirnova\, horeogrāfe\, horeogrāfiskās folkloras speciāliste\, etno kompānijas “Zeidi” vadītāja; Antons Freimans\, horeogrāfs\, Latvijas Nacionālās operas un baleta solists. \nPar Jaunrades deju konkursu \nLatvijas Nacionālā kultūras centra rīkotais (LNKC) Jaunrades deju konkurss ir vienīgais notikums latviešu skatuviskās dejas nozarē\, kura mērķis ir veicināt horeogrāfu jaunrades darbu un mākslinieciski augstvērtīgu deju radīšanu\, papildinot deju kolektīvu repertuāru\, kā arī valsts un reģionālās nozīmes pasākumu deju kolektīvu koprepertuāru. Konkurss rosina horeogrāfus pievērsties horeogrāfiskā mantojuma izpētei un sekmē zināšanās balstītu latviešu skatuviskās dejas jaunradi. \nKonkurss tiek rīkots sadarbībā ar Valmieras novada pašvaldību.
URL:https://vkc.lv/notikums/xxv-jaunrades-deju-konkurss-a-b-c-grupu-kolektivi/
LOCATION:Valmieras Kultūras centra lielā zāle\, Rīgas iela 10\, Valmiera\, Latvija
ATTACH;FMTTYPE=image/png:https://vkc.lv/wp-content/uploads/2026/01/Facbook-event-cover-9.png
END:VEVENT
BEGIN:VEVENT
DTSTART;TZID=Europe/Helsinki:20260125T160000
DTEND;TZID=Europe/Helsinki:20260125T180000
DTSTAMP:20260423T193735
CREATED:20251203T185743Z
LAST-MODIFIED:20251203T185743Z
UID:30236-1769356800-1769364000@vkc.lv
SUMMARY:Nopietna komēdija “Uz visu banku!”
DESCRIPTION:Ir cilvēki\, kuri zīmē\, ir cilvēki\, kuri dzied\, citi spēlē klavieres\, kāpj kalnos\, brauc ar riteni vai dodas garās pastaigās. Katrs bauda dzīvi pēc savas patikas un iespējām. Bet\, ja dzīves straujie līkloči tevi izmet no laivas un esi pusmūžā spiests rast risinājumu\, bieži vien iestājas strupceļš. \nKad apņēmības pilns dodies uz banku prasīt aizdevumu\, bet tev to nedod\, jo esi par vecu\, un tev nav ne galvotāja\, ne ķīlas\, un māsa bezspēcība tev uz pleca jau liek savu smagnējo roku\, lai spiestu uz ceļiem\, tu izmisuma dzīts bankas direktoram acīs vien vari izdvest: “Ja nedosi man kredītu\, es savaldzināšu un pārgulēšu ar tavu sievu’’ \nŠī būs patiesi aizraujoša divu aktieru izdzīvošanas cīņa. \nKurš kuru? Nāc un ievērtē pats! \nRežisors: Intars Rešetins-Pētersons \nLomās: Intars Rešetins un Normunds Laizāns vai Artis Robežnieks \n“Strādājot ar Žordī Galserāna lieliski sarakstīto lugu “Uz visu banku!” (oriģ. nosaukums “Kredīts”)\, mani kā režisoru vienmēr saista iespēja parakties dziļāk par virsējo kārtu. Un\, ja izdodas tikt līdz pat kodolam\, tad gandrīz vienmēr rezultātā gandarījums ir daudz lielāks. Šī reize nav izņēmums\, turklāt veidot izrādi kopā ar diviem savas paaudzes vadošajiem aktieriem – Arti Robežnieku un Normundu Laizānu\, ir ne vien nebijusi pieredze\, bet arī radošs izaicinājums\, jo abi meistari savas dzīves labākos gadus atdevuši skatuves dēļiem un pazīst “drēbi”\, tādējādi teicami papildina kopdarbu ar savu pienesumu. Šī luga ir viltīga. Labā nozīmē\, protams. Tā izklaidē\, sapurina\, uzdod jautājumus. Mūsu kopīgi izvēlētais izrādes žanra apzīmējums “nopietna komēdija” nav nejaušs. Tas dod iespēju caur jokiem parunāt par nopietnām lietām\, un arī otrādi\,” savu ideju un lugu raksturo izrādes režisors Intars Rešetins-Pētersons.
URL:https://vkc.lv/notikums/nopietna-komedija-uz-visu-banku/
LOCATION:Valmieras Kultūras centra lielā zāle\, Rīgas iela 10\, Valmiera\, Latvija
ATTACH;FMTTYPE=image/jpeg:https://vkc.lv/wp-content/uploads/2025/12/501371484_1192035046268641_915354457914782196_n.jpg
END:VEVENT
BEGIN:VEVENT
DTSTART;TZID=Europe/Helsinki:20260130T190000
DTEND;TZID=Europe/Helsinki:20260130T203000
DTSTAMP:20260423T193735
CREATED:20260121T185346Z
LAST-MODIFIED:20260121T185346Z
UID:30396-1769799600-1769805000@vkc.lv
SUMMARY:Nacionālo bruņoto spēku Štāba orķestra Estrādes ansambļa koncerts “Uzcelsim Latviju kopā!”
DESCRIPTION:30. janvārī plkst. 19.00 Valmieras Kultūras centrā notiks Nacionālo bruņoto spēku Štāba orķestra Estrādes ansambļa koncerts “Uzcelsim Latviju kopā!”.\nKoncertā uzstāsies solists seržants Gatis Supe\, komponists\, aranžētājs un pianists seržants Sergejs Austris Universs\, saksofonists seržants Lauris Suvaizdis\, trompetists Klāvs Borozdins\, trombonists štāba virsseržants Artis Greckis\, sitaminstrumentālists virsseržants Rinalds Jukna\, estrādes ansambļa vadītājs un basģitārists seržants Kaspars Orehovs.\nNacionālo bruņoto spēku Štāba orķestra estrādes ansamblis ir viena no jaunākajām un arī atraktīvākajām orķestra grupām. Pēc savas būtības tā ir vitalitātes un azartiskuma iemiesojums\, un tas jo īpaši izpaužas viņu spēlētajā mūzikā.\nAnsambļa repertuārā ir gan Latvijā labi pazīstamu mākslinieku kompozīcijas\, gan pašu radīti oriģināldarbi\, kuri spēj aizraut ikvienu ar savu spēku un enerģiju. Estrādes ansambļa darbību raksturo mīlestība pret Latviju un rūpes par tās nākotni\, tāpēc sevišķa uzmanība tiek veltīta tieši jaunai paaudzei. Neskatoties uz savu neilgo pastāvēšanu\, ar savu jauneklību un entuziasmu ansamblis ir iekarojis daudzu klausītāju sirdis.\nJanvāris Latvijas vēsturē iezīmējas ar notikumiem\, par kuriem ikkatrs no mums var lepoties ar apbrīnojamu tautas vienotību un spēku\, kas valdīja tālajā 1991. gadā barikāžu cīņās! Lai pieminētu un godātu mūsu Valsts aizstāvjus\, NBS Štāba orķestra estrādes ansamblis ir sagatavojis īpašu koncertprogrammu “Uzcelsim Latviju kopā!”. Ansambļa dalībnieki priecēs ar tautai zināmām patriotiskām dziesmām un stāstiem\, iepazīstinās ar vēsturisko notikumu gaitu un aicinās cienīt un mīlēt Latviju ne tikai savā zemē\, bet arī nest un celt tās vārdu tālāk\, plašajā pasaulē!\nIeeja bez maksas\, saņemot ieejas karti Valmieras Kultūras centra kasē. Kases tālrunis: 64207207.
URL:https://vkc.lv/notikums/nacionalo-brunoto-speku-staba-orkestra-estrades-ansambla-koncerts-uzcelsim-latviju-kopa/
LOCATION:Valmieras Kultūras centra lielā zāle\, Rīgas iela 10\, Valmiera\, Latvija
ATTACH;FMTTYPE=image/jpeg:https://vkc.lv/wp-content/uploads/2026/01/PHOTO-2026-01-21-11-47-30-1.jpg
END:VEVENT
END:VCALENDAR