BEGIN:VCALENDAR
VERSION:2.0
PRODID:-//Valmieras Kultūras centrs - ECPv6.15.12.2//NONSGML v1.0//EN
CALSCALE:GREGORIAN
METHOD:PUBLISH
X-WR-CALNAME:Valmieras Kultūras centrs
X-ORIGINAL-URL:https://vkc.lv
X-WR-CALDESC:Events for Valmieras Kultūras centrs
REFRESH-INTERVAL;VALUE=DURATION:PT1H
X-Robots-Tag:noindex
X-PUBLISHED-TTL:PT1H
BEGIN:VTIMEZONE
TZID:Europe/Helsinki
BEGIN:DAYLIGHT
TZOFFSETFROM:+0200
TZOFFSETTO:+0300
TZNAME:EEST
DTSTART:20250330T010000
END:DAYLIGHT
BEGIN:STANDARD
TZOFFSETFROM:+0300
TZOFFSETTO:+0200
TZNAME:EET
DTSTART:20251026T010000
END:STANDARD
BEGIN:DAYLIGHT
TZOFFSETFROM:+0200
TZOFFSETTO:+0300
TZNAME:EEST
DTSTART:20260329T010000
END:DAYLIGHT
BEGIN:STANDARD
TZOFFSETFROM:+0300
TZOFFSETTO:+0200
TZNAME:EET
DTSTART:20261025T010000
END:STANDARD
BEGIN:DAYLIGHT
TZOFFSETFROM:+0200
TZOFFSETTO:+0300
TZNAME:EEST
DTSTART:20270328T010000
END:DAYLIGHT
BEGIN:STANDARD
TZOFFSETFROM:+0300
TZOFFSETTO:+0200
TZNAME:EET
DTSTART:20271031T010000
END:STANDARD
END:VTIMEZONE
BEGIN:VEVENT
DTSTART;TZID=Europe/Helsinki:20260419T160000
DTEND;TZID=Europe/Helsinki:20260419T173000
DTSTAMP:20260421T111901
CREATED:20251212T065353Z
LAST-MODIFIED:20251212T065353Z
UID:30289-1776614400-1776619800@vkc.lv
SUMMARY:Koncertprogramma "Tikšanās vieta - Latvija"
DESCRIPTION:Četri Latvijā iemīļoti dziedātāji – itālis ROBERTO MELONI\, spānis HAVJERS FERNANDESS\, gruzīns ŠOTA ADAMAŠVILI un japānis MASAKI NAKAGAWA\, kurus vieno mīlestība pret Latviju un latviešu kultūru\, satiksies uz vienas skatuves viegli dzirkstošā koncertprogrammā “TIKŠANĀS VIETA – LATVIJA”! \nLīdz šim esam raduši viņus redzēt katru atsevišķi – gan uz lielām\, gan mazākām skatuvēm\, vērojuši televīzijā\, klausījušies viņu balsīs radio un sekojuši viņu gaitām interneta plašumos. Taču nu visi būs sastopami vienkopus\, un koncertprogrammā viņi katrs izpildīs gan savas dzimtās zemes populārākās dziesmas itāļu\, spāņu\, gruzīnu un japāņu valodā\, gan arī\, apliecinot savu mīlestību pret Latviju\, visi dziedās latviski – gan katrs savas oriģināldziesmas latviešu valodā\, gan arī vienosies kopīgā sadziedāšanās priekā ar skatītājiem\, izdziedot daudzas tautā iemīļotas un populāras latviešu dziesmas. \nPavadījumu Masaki\, Šotas\, Roberto un Havjera dziedātajām dziesmām spēlēs lielisks instrumentālais ansamblis\, bet atbildīgos koncerta konferansjē pienākumus pildīs harismātiskais un atraktīvais Roberto Meloni. Koncerta muzikālais vadītājs – Jānis Strazds\, bet scenārija autore un režisore – Maija Kalniņa. \nUz tikšanos!
URL:https://vkc.lv/notikums/koncertprogramma-tiksanas-vieta-latvija/
ATTACH;FMTTYPE=image/jpeg:https://vkc.lv/wp-content/uploads/2025/12/TiksanasVieta-Latvija_Valmiera_1080x1920.jpg
END:VEVENT
END:VCALENDAR